BEGIN:VCALENDAR
VERSION:2.0
PRODID:-//Custody Calendar//Jayme-Morgan Rotation//EN
CALSCALE:GREGORIAN
METHOD:PUBLISH
X-WR-CALNAME:Custody Schedule
X-WR-TIMEZONE:America/Denver
X-WR-CALDESC:Rotating 2-week custody schedule.
BEGIN:VEVENT
UID:custody-w2-morgan-suntue@jayme-morgan.local
DTSTAMP:20260422T195249Z
DTSTART;VALUE=DATE:20260426
DTEND;VALUE=DATE:20260429
SUMMARY:Morgan (kids)
DESCRIPTION:Week 2 • Sun night – Tue night with Morgan
RRULE:FREQ=WEEKLY;INTERVAL=2;BYDAY=SU
TRANSP:TRANSPARENT
END:VEVENT
BEGIN:VEVENT
UID:custody-w2-jayme-wedthu@jayme-morgan.local
DTSTAMP:20260422T195249Z
DTSTART;VALUE=DATE:20260429
DTEND;VALUE=DATE:20260501
SUMMARY:Jayme (kids)
DESCRIPTION:Week 2 • Wed night – Thu night with Jayme
RRULE:FREQ=WEEKLY;INTERVAL=2;BYDAY=WE
TRANSP:TRANSPARENT
END:VEVENT
BEGIN:VEVENT
UID:custody-w2-morgan-frisat@jayme-morgan.local
DTSTAMP:20260422T195249Z
DTSTART;VALUE=DATE:20260501
DTEND;VALUE=DATE:20260503
SUMMARY:Morgan (kids)
DESCRIPTION:Week 2 • Fri night – Sat night with Morgan
RRULE:FREQ=WEEKLY;INTERVAL=2;BYDAY=FR
TRANSP:TRANSPARENT
END:VEVENT
BEGIN:VEVENT
UID:custody-w1-jayme-suntue@jayme-morgan.local
DTSTAMP:20260422T195249Z
DTSTART;VALUE=DATE:20260503
DTEND;VALUE=DATE:20260506
SUMMARY:Jayme (kids)
DESCRIPTION:Week 1 • Sun night – Tue night with Jayme
RRULE:FREQ=WEEKLY;INTERVAL=2;BYDAY=SU
TRANSP:TRANSPARENT
END:VEVENT
BEGIN:VEVENT
UID:custody-w1-morgan-wedthu@jayme-morgan.local
DTSTAMP:20260422T195249Z
DTSTART;VALUE=DATE:20260506
DTEND;VALUE=DATE:20260508
SUMMARY:Morgan (kids)
DESCRIPTION:Week 1 • Wed night – Thu night with Morgan
RRULE:FREQ=WEEKLY;INTERVAL=2;BYDAY=WE
TRANSP:TRANSPARENT
END:VEVENT
BEGIN:VEVENT
UID:custody-w1-jayme-frisat@jayme-morgan.local
DTSTAMP:20260422T195249Z
DTSTART;VALUE=DATE:20260508
DTEND;VALUE=DATE:20260510
SUMMARY:Jayme (kids)
DESCRIPTION:Week 1 • Fri night – Sat night with Jayme
RRULE:FREQ=WEEKLY;INTERVAL=2;BYDAY=FR
TRANSP:TRANSPARENT
END:VEVENT
END:VCALENDAR
